BEGIN:VCALENDAR
VERSION:2.0
PRODID:-// - ECPv4.7.3//NONSGML v1.0//EN
CALSCALE:GREGORIAN
METHOD:PUBLISH
X-ORIGINAL-URL:https://www.mdtechcouncil.com/membership/events
X-WR-CALDESC:Events for 
BEGIN:VEVENT
DTSTART;TZID=America/New_York:20180621T070000
DTEND;TZID=America/New_York:20180621T140000
DTSTAMP:20260424T141623
CREATED:20180521T145748Z
LAST-MODIFIED:20180521T145748Z
UID:298-1529564400-1529589600@www.mdtechcouncil.com
SUMMARY:Vaccine Symposium
DESCRIPTION:Challenges & Opportunities of Developing Vaccines in the 21st Century \nVaccine development is a complex process and new advancements in the industry are leading to innovation and change in the industry. Join us as we bring together industry leading professionals to discuss the present and future of vaccine development. \nEnjoy presentations and panel discussions from industry experts which will cover highly relevant topics related to the research\, development\, and manufacturing of vaccines around the globe\, including: \n\nPotency Assays for Prophylactic & Therapeutic Vaccines\nProduct Characterization and Manufacturing Challenges\nHow Can/Is QbD Being Used in the Manufacture of Nww\, Well-Characterized Vaccines?\nCurrent Regulatory Trends for Novel Vaccines for Emerging Infectious Diseases\n\n
URL:https://www.mdtechcouncil.com/membership/events/calendar/vaccine-symposium/
LOCATION:Gaithersburg Marriott Washingtonian Center\, 9751 Washingtonian Boulevard\, Gaithersburg\, 20878\, United States
GEO:39.1157061;-77.1955579
X-APPLE-STRUCTURED-LOCATION;VALUE=URI;X-ADDRESS=Gaithersburg Marriott Washingtonian Center 9751 Washingtonian Boulevard Gaithersburg 20878 United States;X-APPLE-RADIUS=500;X-TITLE=9751 Washingtonian Boulevard:geo:-77.1955579,39.1157061
CATEGORIES:Life Science,MTC
END:VEVENT
END:VCALENDAR