BEGIN:VCALENDAR
VERSION:2.0
PRODID:-// - ECPv4.7.3//NONSGML v1.0//EN
CALSCALE:GREGORIAN
METHOD:PUBLISH
X-ORIGINAL-URL:https://www.mdtechcouncil.com/membership/events
X-WR-CALDESC:Events for 
BEGIN:VEVENT
DTSTART;TZID=America/New_York:20180510T180000
DTEND;TZID=America/New_York:20180510T200000
DTSTAMP:20260424T121733
CREATED:20180507T032821Z
LAST-MODIFIED:20180507T032821Z
UID:289-1525975200-1525982400@www.mdtechcouncil.com
SUMMARY:The Annapolis Crab Derby! Fundraiser (5th Annual)
DESCRIPTION:Please join us at the 5th Annual Annapolis Crab Derby! This event is a Fundraiser with 100% of the proceeds going to the Chesapeake Bay Foundation. Presented by LAUNCH! Annapolis and MCVC Partners. \nWe will be racing live blue crabs to raise money for the Chesapeake Bay Foundation (CBF). The CBF does so much great work to preserve and restore our national treasure. Now they need our help more than ever. \nCome join us for amazing complimentary food\, friends\, networking\, complimentary adult beverages and of course crab races!! It’s a lot of fun and is for a great cause. \n
URL:https://www.mdtechcouncil.com/membership/events/calendar/the-annapolis-crab-derby-fundraiser-5th-annual/
LOCATION:Chesapeake Bay Foundation\, 6 Herndon Ave\, Annapolis\, MD\, United States
GEO:38.9325107;-76.4626989
X-APPLE-STRUCTURED-LOCATION;VALUE=URI;X-ADDRESS=Chesapeake Bay Foundation 6 Herndon Ave Annapolis MD United States;X-APPLE-RADIUS=500;X-TITLE=6 Herndon Ave:geo:-76.4626989,38.9325107
CATEGORIES:MTC
END:VEVENT
END:VCALENDAR