BEGIN:VCALENDAR
VERSION:2.0
PRODID:-// - ECPv4.7.3//NONSGML v1.0//EN
CALSCALE:GREGORIAN
METHOD:PUBLISH
X-ORIGINAL-URL:https://www.mdtechcouncil.com/membership/events
X-WR-CALDESC:Events for 
BEGIN:VEVENT
DTSTART;TZID=America/New_York:20250909T100000
DTEND;TZID=America/New_York:20250909T130000
DTSTAMP:20260424T121616
CREATED:20250811T140229Z
LAST-MODIFIED:20250811T140229Z
UID:5677-1757412000-1757422800@www.mdtechcouncil.com
SUMMARY:STEM Internship Fair | Mount St. Mary's University
DESCRIPTION:The Mount St. Mary’s University Career Center is pleased to invite you to an in-person recruiting event on Tuesday\, September 9\, 2025\, 10:00 AM-1:00 PM  We value your organization’s efforts to connect with our students and want to support any recruiting you might conduct. This fair will have greater focus towards our STEM majors\, though this is open to all students. It is recommended for employers who are recruiting for spring 2026 internships\, summer 2026 internships\, and other related opportunities. \n
URL:https://www.mdtechcouncil.com/membership/events/calendar/stem-internship-fair-mount-st-marys-university/
ORGANIZER;CN="Mount%20St.%20Mary%27s%20University%20Emmitsburg%2C%20MD":MAILTO:p.j.paradzinski@msmary.edu
END:VEVENT
END:VCALENDAR