BEGIN:VCALENDAR
VERSION:2.0
PRODID:-// - ECPv4.7.3//NONSGML v1.0//EN
CALSCALE:GREGORIAN
METHOD:PUBLISH
X-ORIGINAL-URL:https://www.mdtechcouncil.com/membership/events
X-WR-CALDESC:Events for 
BEGIN:VEVENT
DTSTART;TZID=America/New_York:20180719T120000
DTEND;TZID=America/New_York:20180719T130000
DTSTAMP:20260424T191706
CREATED:20180702T023522Z
LAST-MODIFIED:20180702T023522Z
UID:361-1532001600-1532005200@www.mdtechcouncil.com
SUMMARY:Special Seminar:  "A New Age of Spectral Flow Cytometry"
DESCRIPTION:UMGCCC Flow Cytometry Shared Services & BioLegend will give a special seminar on the Cytek Aurora 20+ color flow cytometry panel with only 3 lasers.  Novel near-infrared emitting fluorophores.  Event is free just need to register\, lunch included:  https://preview.tinyurl.com/UMGCCCFlow \n
URL:https://www.mdtechcouncil.com/membership/events/calendar/special-seminar-a-new-age-of-spectral-flow-cytometry/
CATEGORIES:Life Science,MTC
END:VEVENT
END:VCALENDAR