BEGIN:VCALENDAR
VERSION:2.0
PRODID:-// - ECPv4.7.3//NONSGML v1.0//EN
CALSCALE:GREGORIAN
METHOD:PUBLISH
X-ORIGINAL-URL:https://www.mdtechcouncil.com/membership/events
X-WR-CALDESC:Events for 
BEGIN:VEVENT
DTSTART;TZID=America/New_York:20180419T170000
DTEND;TZID=America/New_York:20180419T200000
DTSTAMP:20260424T171327
CREATED:20180410T205131Z
LAST-MODIFIED:20180410T205852Z
UID:247-1524157200-1524168000@www.mdtechcouncil.com
SUMMARY:Outdoor Speaker Series: Technology and Innovation in the Non-Profit World
DESCRIPTION:Join Mindgrub for outdoor conversations\, cocktails\, and cuisine. Each month we’re bringing together thought leaders in education\, healthcare\, government\, business\, nonprofit management\, and more to share thought-provoking perspectives on how technology and innovation shape their respective industries. \nPlease join us this month to hear about the non-profit world with a panel led by Ulman Cancer Fund CEO Brock Yetso. \nPanelists Include: \nAnn Darrin\, Managing Executive\, Space Dept.\, The Johns Hopkins University Applied Physics Laboratory \nBrian Gaines\, CEO\, MDBio Foundation \nMatt Hanna\, Executive Director\, Next One Up \nTucker Lyons\, Founder\, Widespread Hope Foundation \nCarlo DiClemente\, Director\, UMBC Center for Community Collaboration and UMBC MIECHV \n  \n
URL:https://www.mdtechcouncil.com/membership/events/calendar/outdoor-speaker-series/
LOCATION:Mindgrub\, 1215 E Fort Avenue\, Baltimore\, 21230\, United States
GEO:39.2685951;-76.5977639
X-APPLE-STRUCTURED-LOCATION;VALUE=URI;X-ADDRESS=Mindgrub 1215 E Fort Avenue Baltimore 21230 United States;X-APPLE-RADIUS=500;X-TITLE=1215 E Fort Avenue:geo:-76.5977639,39.2685951
ORGANIZER;CN="Mindgrub":MAILTO:events@mindgrub.com
END:VEVENT
END:VCALENDAR