BEGIN:VCALENDAR
VERSION:2.0
PRODID:-// - ECPv4.7.3//NONSGML v1.0//EN
CALSCALE:GREGORIAN
METHOD:PUBLISH
X-ORIGINAL-URL:https://www.mdtechcouncil.com/membership/events
X-WR-CALDESC:Events for 
BEGIN:VEVENT
DTSTART;TZID=America/New_York:20180620T173000
DTEND;TZID=America/New_York:20180620T190000
DTSTAMP:20260424T160724
CREATED:20180606T150002Z
LAST-MODIFIED:20180606T150002Z
UID:334-1529515800-1529521200@www.mdtechcouncil.com
SUMMARY:Montgomery Corridor Wine'd Down Wednesdays
DESCRIPTION:The Montgomery Corridor of Healthcare Businesswomens’ Association presents a new knowledge-networking series: Wine’d Down Wednesdays. \nDiversifying your network fulfills personal curiosity and develops your person. Knowledge-networking arms you with insider tips to control your destiny in the workplace. \nEpisode 1: Slaying the Impostor Syndrome (June 20\, 2018).  Executive coach Lynn Ellen Queen will arm attendees with insider tips to overcome the fraudulent feelings of inadequacy. \n
URL:https://www.mdtechcouncil.com/membership/events/calendar/montgomery-corridor-wined-down-wednesdays/
LOCATION:Serendipity Labs\, 4500 East West Hwy\, Suite 125\, Bethesda\, MD\, 20814\, United States
GEO:38.9842593;-77.0910166
X-APPLE-STRUCTURED-LOCATION;VALUE=URI;X-ADDRESS=Serendipity Labs 4500 East West Hwy Suite 125 Bethesda MD 20814 United States;X-APPLE-RADIUS=500;X-TITLE=4500 East West Hwy\, Suite 125:geo:-77.0910166,38.9842593
ORGANIZER;CN="Healthcare%20Businesswomen%27s%20Association%2C%20Montgomery%20Corridor%20Chapter":MAILTO:wilkinsonal@comcast.net
END:VEVENT
END:VCALENDAR