BEGIN:VCALENDAR
VERSION:2.0
PRODID:-// - ECPv4.7.3//NONSGML v1.0//EN
CALSCALE:GREGORIAN
METHOD:PUBLISH
X-ORIGINAL-URL:https://www.mdtechcouncil.com/membership/events
X-WR-CALDESC:Events for 
BEGIN:VEVENT
DTSTART;TZID=America/New_York:20180815T080000
DTEND;TZID=America/New_York:20180818T170000
DTSTAMP:20260424T204551
CREATED:20180702T155956Z
LAST-MODIFIED:20180702T160201Z
UID:366-1534320000-1534611600@www.mdtechcouncil.com
SUMMARY:Maryland Association of Counties Summer Conference
DESCRIPTION:\n\nMACo’s Summer Conference is a four-day event\, August 15-18\, 2018\, and draws more than 2\,000 county elected officials and staff decision-makers\, legislators\, State officials\, and business/nonprofit representatives.\n\nOnline Tech Expo Booth Registration: mdcounties.org/SC18TechExpoRegistration\nInput code MTC18 \nTech Expo Sponsor/Exhibitor Brochure: mdcounties.org/SC18TechExpoBrochureMTC\nInput code MTC18\nMACo Summer Conference Online Registration: mdcounties.org/SC18OnlineRegistration\n$115 discount on full commercial registration\, must register as “Other Government” and input code: MTC18\nMACo Summer Conference Fax/Mail/Email Registration: mdcounties.org/SC18MTCRegistration\n\nClick here to learn more. \n
URL:https://www.mdtechcouncil.com/membership/events/calendar/maryland-association-of-counties-summer-conference/
LOCATION:Roland Powell Convention Center\, Ocean City\, MD\, United States
GEO:38.3365032;-75.0849058
END:VEVENT
END:VCALENDAR