BEGIN:VCALENDAR
VERSION:2.0
PRODID:-// - ECPv4.7.3//NONSGML v1.0//EN
CALSCALE:GREGORIAN
METHOD:PUBLISH
X-ORIGINAL-URL:https://www.mdtechcouncil.com/membership/events
X-WR-CALDESC:Events for 
BEGIN:VEVENT
DTSTART;TZID=America/New_York:20250923T170000
DTEND;TZID=America/New_York:20250923T200000
DTSTAMP:20260424T085856
CREATED:20250825T141755Z
LAST-MODIFIED:20250825T141755Z
UID:5710-1758646800-1758657600@www.mdtechcouncil.com
SUMMARY:Market Pulse Pitch- Digital Health
DESCRIPTION:Join us at Market Pulse Pitch for an unparalleled opportunity to engage with the brightest innovators and most promising ventures in the digital health space. This exclusive event brings together investors\, industry-related companies\, and community partners for an evening of dynamic pitches\, strategic networking and collaboration. The companies pitching at Market Pulse represent a diverse and cutting-edge landscape of digital health innovation. \nAttendees will also enjoy complimentary food and drinks while connecting with forward-thinking entrepreneurs and industry leaders. Gain access to market-ready businesses\, explore high-potential investment opportunities and build meaningful partnerships with innovators shaping the future of digital health. Whether you’re seeking your next major deal\, a strategic product collaboration or new pathways to growth\, Market Pulse is designed to ignite connections and drive real results. \n
URL:https://www.mdtechcouncil.com/membership/events/calendar/market-pulse-pitch-digital-health/
LOCATION:Howard County Economic Development Authority\, 6751 Columbia Gateway Drive\,\, Columbia\, MD\, 21046\, United States
GEO:39.1842437;-76.8015413
X-APPLE-STRUCTURED-LOCATION;VALUE=URI;X-ADDRESS=Howard County Economic Development Authority 6751 Columbia Gateway Drive Columbia MD 21046 United States;X-APPLE-RADIUS=500;X-TITLE=6751 Columbia Gateway Drive\,:geo:-76.8015413,39.1842437
END:VEVENT
END:VCALENDAR