BEGIN:VCALENDAR
VERSION:2.0
PRODID:-// - ECPv4.7.3//NONSGML v1.0//EN
CALSCALE:GREGORIAN
METHOD:PUBLISH
X-ORIGINAL-URL:https://www.mdtechcouncil.com/membership/events
X-WR-CALDESC:Events for 
BEGIN:VEVENT
DTSTART;TZID=America/New_York:20190403T090000
DTEND;TZID=America/New_York:20190403T103000
DTSTAMP:20260424T090031
CREATED:20190401T151554Z
LAST-MODIFIED:20190401T151554Z
UID:1060-1554282000-1554287400@www.mdtechcouncil.com
SUMMARY:Live Webinar: Agility in Rare Disease & Oncology Clinical Trials - Data Management
DESCRIPTION:\n\n\n\n\n\n\n\n\n\n\nModular and adaptive clinical trials are rapidly expanding the ability of researchers to modify clinical trials based on emerging data\, i.e. to make better decisions based on positive clinical response. This is a flexible process which provides data on the smallest number of patients so that drug developers can pre-plan alternative paths for the trial during the design stage. \nJoin this free webinar to review strategies for data management in modular and adaptive clinical trials. \nIn this session\, attendees will: \n\nLearn how to reduce study build times by up to 30 percent\, reducing cost while increasing quality\, achieving clinical site set-up faster\nLearn how a cloud platform enables mid-study changes without the need to migrate data – reducing risk and impact on trial success\, trial teams\, and trial execution\nGain insight on how adaptive\, lean and flexible operational conduct from a CRO study team enables adaptive data management\nReview timelines and flexible build process to include challenges experienced and ways to mitigate those challenges\nUnderstand how to execute oversight requirements under GCP E2 R2 using online tools\n\n\n\n\n\n\n\n\n\n\n\n\n\n
URL:https://www.mdtechcouncil.com/membership/events/calendar/live-webinar-agility-in-rare-disease-oncology-clinical-trials-data-management/
ORGANIZER;CN="Simbec%20Orion":MAILTO:information@simbecorioncro.com
END:VEVENT
END:VCALENDAR