BEGIN:VCALENDAR
VERSION:2.0
PRODID:-// - ECPv4.7.3//NONSGML v1.0//EN
CALSCALE:GREGORIAN
METHOD:PUBLISH
X-ORIGINAL-URL:https://www.mdtechcouncil.com/membership/events
X-WR-CALDESC:Events for 
BEGIN:VEVENT
DTSTART;TZID=America/New_York:20181029T090000
DTEND;TZID=America/New_York:20181030T170000
DTSTAMP:20260424T154034
CREATED:20180521T145402Z
LAST-MODIFIED:20180827T143407Z
UID:278-1540803600-1540918800@www.mdtechcouncil.com
SUMMARY:International Vaccine Congress 2018
DESCRIPTION:International Vaccine Congress 2018 will be held in Prague\, Czech Republic during October 29-30\, 2018. It is an extraordinary event designed for immunologists  and international medical health professionals to facilitate the dissemination and application of research findings related to vaccination and all the associated research areas. The conference invites participants from universities\, clinical research institutions and diagnostic companies share their research experiences on all aspects of this rapidly expanding field and thereby\, providing a showcase of the latest techniques. \n
URL:https://www.mdtechcouncil.com/membership/events/calendar/international-vaccine-congress-2018/
ORGANIZER;CN="Meetingsint%20PTE%20ltd":MAILTO:vaccinecongress@meetingseries.com
END:VEVENT
END:VCALENDAR