BEGIN:VCALENDAR
VERSION:2.0
PRODID:-// - ECPv4.7.3//NONSGML v1.0//EN
CALSCALE:GREGORIAN
METHOD:PUBLISH
X-ORIGINAL-URL:https://www.mdtechcouncil.com/membership/events
X-WR-CALDESC:Events for 
BEGIN:VEVENT
DTSTART;VALUE=DATE:20181029
DTEND;VALUE=DATE:20181031
DTSTAMP:20260424T134824
CREATED:20180507T175144Z
LAST-MODIFIED:20180827T143351Z
UID:280-1540771200-1540943999@www.mdtechcouncil.com
SUMMARY:International Conference on Materials Research and Development
DESCRIPTION:We delightfully invites you to the  ”International Conference on Materials Research and Development” is going  to be held on 29-31 October 2018 at PRAGUE\, Czech Republic . It  is a great opportunity to be a part of this. \nMeetings International (Meetings Int.) is a worldwide pioneer in delivering top notch meetings\, gatherings\, workshops and symposia in every significant field of science\, innovation and medication. Since its beginning\, Meetings Int. has been related with national and universal affiliations\, partnerships\, devoted to have world class meetings and occasions. Meetings Int. underpins expansive degree research and associate audit at a wide scope of authorities around the globe. The key vital goal of Meetings Int. is to impart science and medicinal research amongst the academic/scholarly community\, and industry. \nIt totally deals on bonding and structures of physical\, mechanical and chemical etc. By one sentence we can call as integration and application of materials. By the economically we can go for materials which will be given us good marketing and also the European are the good commercial purpose. \n
URL:https://www.mdtechcouncil.com/membership/events/calendar/international-conference-on-materials-research-and-development/
END:VEVENT
END:VCALENDAR