BEGIN:VCALENDAR
VERSION:2.0
PRODID:-// - ECPv4.7.3//NONSGML v1.0//EN
CALSCALE:GREGORIAN
METHOD:PUBLISH
X-ORIGINAL-URL:https://www.mdtechcouncil.com/membership/events
X-WR-CALDESC:Events for 
BEGIN:VEVENT
DTSTART;TZID=America/New_York:20180619T120000
DTEND;TZID=America/New_York:20180619T130000
DTSTAMP:20260424T191248
CREATED:20180619T153335Z
LAST-MODIFIED:20180619T153335Z
UID:343-1529409600-1529413200@www.mdtechcouncil.com
SUMMARY:Instant Admission Open House
DESCRIPTION:Talk with faculty and staff about your professional aspirations and learn how the Hood College Graduate School can help you achieve your goals. We offer affordable graduate degrees that will enhance your marketability. Two sessions are being offered so bring your unofficial transcripts and resume to be considered for Instant Admission into many of our programs! \n
URL:https://www.mdtechcouncil.com/membership/events/calendar/instant-admission-open-house/2018-06-19/
LOCATION:Hood College Whitaker Campus Center\, 401 Rosemont Avenue\, Frederick\, MD\, 21701\, United States
GEO:39.4213829;-77.4202024
X-APPLE-STRUCTURED-LOCATION;VALUE=URI;X-ADDRESS=Hood College Whitaker Campus Center 401 Rosemont Avenue Frederick MD 21701 United States;X-APPLE-RADIUS=500;X-TITLE=401 Rosemont Avenue:geo:-77.4202024,39.4213829
ORGANIZER;CN="Hood%20College%20Graduate%20School":MAILTO:gofurther@hood.edu
END:VEVENT
END:VCALENDAR