BEGIN:VCALENDAR
VERSION:2.0
PRODID:-// - ECPv4.7.3//NONSGML v1.0//EN
CALSCALE:GREGORIAN
METHOD:PUBLISH
X-ORIGINAL-URL:https://www.mdtechcouncil.com/membership/events
X-WR-CALDESC:Events for 
BEGIN:VEVENT
DTSTART;TZID=America/New_York:20180712T150000
DTEND;TZID=America/New_York:20180712T180000
DTSTAMP:20260424T191707
CREATED:20180710T193750Z
LAST-MODIFIED:20180710T193750Z
UID:385-1531407600-1531418400@www.mdtechcouncil.com
SUMMARY:Career Invitational
DESCRIPTION:Join Anne Arundel Workforce Development Corporation (AAWDC) and Anne Arundel Economic Development Corporation (AAEDC) for a Career Invitational at WorldAware in Annapolis on Thursday\, July 12th from 3 to 6 pm. Cyber/IT industry leaders including WorldAware\, Vision\, and Cipher will be on site recruiting job-seekers for in-demand positions at their companies. \n
URL:https://www.mdtechcouncil.com/membership/events/calendar/career-invitational/
LOCATION:WorldAware Headquarters Annapolis\, MD\, 185 Admiral Cochrane Drive\, 2nd Floor\, Annapolis\, MD\, 21401\, United States
GEO:38.973439;-76.548554
X-APPLE-STRUCTURED-LOCATION;VALUE=URI;X-ADDRESS=WorldAware Headquarters Annapolis MD 185 Admiral Cochrane Drive 2nd Floor Annapolis MD 21401 United States;X-APPLE-RADIUS=500;X-TITLE=185 Admiral Cochrane Drive\, 2nd Floor:geo:-76.548554,38.973439
CATEGORIES:Technology
END:VEVENT
END:VCALENDAR