BEGIN:VCALENDAR
VERSION:2.0
PRODID:-// - ECPv4.7.3//NONSGML v1.0//EN
CALSCALE:GREGORIAN
METHOD:PUBLISH
X-ORIGINAL-URL:https://www.mdtechcouncil.com/membership/events
X-WR-CALDESC:Events for 
BEGIN:VEVENT
DTSTART;VALUE=DATE:20190403
DTEND;VALUE=DATE:20190405
DTSTAMP:20260424T133723
CREATED:20190227T185146Z
LAST-MODIFIED:20190227T185146Z
UID:998-1554249600-1554422399@www.mdtechcouncil.com
SUMMARY:BIO’s 2019 Legislative Day Fly-In
DESCRIPTION:The Biotechnology Innovation Organization (BIO)\, in partnership with our leaders from State Biotechnology and Life Sciences Affiliates across the country\, invite you to attend BIO’s 2019 Legislative Day Fly-In. Biotech executives from all over the U.S. will come to Washington\, D.C.\, with the mission of educating Members of Congress and staff on the value of biotech innovation and advancing BIO’s key legislative priorities. \n \n
URL:https://www.mdtechcouncil.com/membership/events/calendar/bios-2019-legislative-day-fly-in/
LOCATION:Washington\, D.C.
CATEGORIES:Life Science
END:VEVENT
END:VCALENDAR