BEGIN:VCALENDAR
VERSION:2.0
PRODID:-// - ECPv4.7.3//NONSGML v1.0//EN
CALSCALE:GREGORIAN
METHOD:PUBLISH
X-ORIGINAL-URL:https://www.mdtechcouncil.com/membership/events
X-WR-CALDESC:Events for 
BEGIN:VEVENT
DTSTART;TZID=America/New_York:20181112T090000
DTEND;TZID=America/New_York:20181113T180000
DTSTAMP:20260424T170734
CREATED:20181031T133037Z
LAST-MODIFIED:20181031T133037Z
UID:409-1542013200-1542132000@www.mdtechcouncil.com
SUMMARY:9th International Conference on Addiction and Psychiatry
DESCRIPTION:Addiction 2018 provides better leading speakers\, researchers\, academic scientists and research scholars to exchange and share their experiences and ideas about Addiction and Psychiatry. It can also provide a better platform for practitioners\, researchers and educators to present and discuss the most recent innovations\, trends\, as well as practical challenges encountered and solutions adopted in the fields of neuroscience\, psychology\, public health\, internal medicine\, psychiatry\, social work\, treatment\, and prevention. Addiction and psychiatry is a type of brain disease which involves the treatment of individual who live with chemical dependencies such as alcohol\, nicotine drugs\, disorders involving legal\, illegal and other addictive substances. The organizing committee is gear up for an informative conference program including plenary lectures\, symposia\, workshops on a variety of topics\, poster presentations and various programs for participants from all over the world. \n\nAddiction Medicine\nImpulse Control Disorder and Addiction\nDual Diagnosis:-Substance Abuse and Mental Illness\nAnxiety and Depression\nAlcoholism and Drug Addiction\nBehavioral Addiction\nPsychiatry and Mental Health Addiction\nPsychiatry and Psychological Disorder\nChild and Adolescent Psychiatry\nGeriatric Psychiatry\nChild and Adolescence Behavioral Therapy\nAddiction Induced Brain Disorder\nAddiction and Mental Health\nAddiction and Brain\nAddiction and Youth\nAlcohol and Recovery\nRehabilitation and Family Therapies\n\n
URL:https://www.mdtechcouncil.com/membership/events/calendar/9th-international-conference-on-addiction-and-psychiatry/
LOCATION:Dubai\,UAE\, Email: addictionpsy2018@gmail.com Radisson Blu Hotel Dubai Waterfront Al Abraj Street / Marasi Drive Business Bay\, Dubai\, 16590\, United Arab Emirates
GEO:25.186355;55.267927
X-APPLE-STRUCTURED-LOCATION;VALUE=URI;X-ADDRESS=DubaiUAE Email: addictionpsy2018@gmail.com Radisson Blu Hotel Dubai Waterfront Al Abraj Street / Marasi Drive Business Bay Dubai 16590 United Arab Emirates;X-APPLE-RADIUS=500;X-TITLE=Email: addictionpsy2018@gmail.com Radisson Blu Hotel Dubai Waterfront Al Abraj Street / Marasi Drive Business Bay:geo:55.267927,25.186355
CATEGORIES:Life Science
END:VEVENT
END:VCALENDAR